BEGIN:VCALENDAR
VERSION:2.0
PRODID:-//Ulrich Museum of Art - ECPv6.15.19//NONSGML v1.0//EN
CALSCALE:GREGORIAN
METHOD:PUBLISH
X-WR-CALNAME:Ulrich Museum of Art
X-ORIGINAL-URL:https://ulrich.wichita.edu
X-WR-CALDESC:Events for Ulrich Museum of Art
REFRESH-INTERVAL;VALUE=DURATION:PT1H
X-Robots-Tag:noindex
X-PUBLISHED-TTL:PT1H
BEGIN:VTIMEZONE
TZID:America/Chicago
BEGIN:DAYLIGHT
TZOFFSETFROM:-0600
TZOFFSETTO:-0500
TZNAME:CDT
DTSTART:20250309T080000
END:DAYLIGHT
BEGIN:STANDARD
TZOFFSETFROM:-0500
TZOFFSETTO:-0600
TZNAME:CST
DTSTART:20251102T070000
END:STANDARD
BEGIN:DAYLIGHT
TZOFFSETFROM:-0600
TZOFFSETTO:-0500
TZNAME:CDT
DTSTART:20260308T080000
END:DAYLIGHT
BEGIN:STANDARD
TZOFFSETFROM:-0500
TZOFFSETTO:-0600
TZNAME:CST
DTSTART:20261101T070000
END:STANDARD
BEGIN:DAYLIGHT
TZOFFSETFROM:-0600
TZOFFSETTO:-0500
TZNAME:CDT
DTSTART:20270314T080000
END:DAYLIGHT
BEGIN:STANDARD
TZOFFSETFROM:-0500
TZOFFSETTO:-0600
TZNAME:CST
DTSTART:20271107T070000
END:STANDARD
END:VTIMEZONE
BEGIN:VEVENT
DTSTART;TZID=America/Chicago:20260429T150000
DTEND;TZID=America/Chicago:20260429T160000
DTSTAMP:20260423T192021
CREATED:20260423T213208Z
LAST-MODIFIED:20260423T213329Z
UID:18092-1777474800-1777478400@ulrich.wichita.edu
SUMMARY:First 'Adopted' Artwork Reveal
DESCRIPTION:Join us as we unveil the first covered work in our Art Matters Adopt-a-Sculpture campaign. We will gather at 3 p.m.\, Wednesday\, April 29 in honor of donor Peri Widener\, who has adopted Joan Miró's Personnages Oiseaux\, the artist's largest U.S. work and only glass mosaic\, famously located on the facade of the Ulrich. \nSince the Art Matters Adopt-a-Sculpture campaign kicked off in late February\, 32 of the available 57 selected works from the Martin H. Bush Outdoor Sculpture Collection have been "adopted" by generous donors to secure both the immediate vibrancy and long-term sustainability of the Ulrich. \nThose who wish to support our exhibitions and educational programs now and in the future can learn more about the campaign and which works are still available.
URL:https://ulrich.wichita.edu/programs/first-adopted-artwork-reveal/
LOCATION:ulrich museum
CATEGORIES:Special Event
ATTACH;FMTTYPE=image/jpeg:https://ulrich.wichita.edu/wp-content/uploads/2026/03/MuralUnveil.jpg
ORGANIZER;CN="Ulrich Museum of Art":MAILTO:teri.mott@gmail.com
END:VEVENT
END:VCALENDAR